BEGIN:VCALENDAR
VERSION:2.0
PRODID:-//ICASE
CALSCALE:GREGORIAN
METHOD:PUBLISH
X-WR-CALNAME:ICASE
X-ORIGINAL-URL:https://icaseonline.net/web/event/msta-uae-participated-in-the-3rd-international-conference-for-humanity-and-social-science/
X-WR-CALDESC:MSTA- UAE participated in the 3rd International Conference for Humanity and Social Science
BEGIN:VEVENT
DTSTART:
DTEND:
SUMMARY:MSTA- UAE participated in the 3rd International Conference for Humanity and Social Science
DESCRIPTION:
LOCATION:
END:VEVENT
END:VCALENDAR
